BEGIN:VCALENDAR
VERSION:2.0
PRODID:-//Ocean City MD Motels | Shangri-La Motel Rooms - ECPv4.9.14.1//NONSGML v1.0//EN
CALSCALE:GREGORIAN
METHOD:PUBLISH
X-WR-CALNAME:Ocean City MD Motels | Shangri-La Motel Rooms
X-ORIGINAL-URL:https://shangrilamotel.com
X-WR-CALDESC:Events for Ocean City MD Motels | Shangri-La Motel Rooms
BEGIN:VTIMEZONE
TZID:America/New_York
BEGIN:DAYLIGHT
TZOFFSETFROM:-0500
TZOFFSETTO:-0400
TZNAME:EDT
DTSTART:20170312T070000
END:DAYLIGHT
BEGIN:STANDARD
TZOFFSETFROM:-0400
TZOFFSETTO:-0500
TZNAME:EST
DTSTART:20171105T060000
END:STANDARD
END:VTIMEZONE
BEGIN:VEVENT
DTSTART;TZID=America/New_York:20171110T183000
DTEND;TZID=America/New_York:20171110T213000
DTSTAMP:20260421T042908
CREATED:20171110T143821Z
LAST-MODIFIED:20171110T143821Z
UID:7636-1510338600-1510349400@shangrilamotel.com
SUMMARY:5 Course Tour of Italy Wine Pairing Dinner
DESCRIPTION:Wine pairing dinner is back for our second feature: Tour of Italy! This event is open to everyone over 21; ladies\, gentlemen\, couples or groups.  Reservations are highly recommended; space is limited.\n \n$49 per person\nFirst Course: \nTraditional Italian Chop Salad \n-Fresh Vegetables\, Aged Meats\, and Fresh Parmesan Cheese topped with a lite Italian Vinaigrette. \n \nSecond Course:\nBaked Mozzarella and Italian Sausage Soup. \n-A Zesty Italian Sausage Tomato Based Soup\, finished off with fresh mozzarella. \n \nThird Course:\nBaked Eggplant Parmesan\n-Baked and Grilled in Italian Garlic Oil\, topped with a tradtional puttanesca sauce and blended Italian Cheeses.\n \nFourth Course:\nHand-made Hearty Seafood Lasagna. \n-Traditional lasagna with smoked salmon\, fresh shrimp\, lump crab meat\, blended cheeses and our homemade tomato sauce.\n \nFifth Course:\nTiramisu Stuffed Cannolis\n-The best of both worlds! Handmade cannoli stuffed with a buttercream and chocolate tiramisu finished with a whipped chocolate cream sauce\, grated vanilla\, and raspberry accents.\n\n
URL:https://shangrilamotel.com/event/5-course-tour-of-italy-wine-pairing-dinner-8/
END:VEVENT
END:VCALENDAR