BEGIN:VCALENDAR
VERSION:2.0
PRODID:-//Ocean City MD Motels | Shangri-La Motel Rooms - ECPv4.9.14.1//NONSGML v1.0//EN
CALSCALE:GREGORIAN
METHOD:PUBLISH
X-WR-CALNAME:Ocean City MD Motels | Shangri-La Motel Rooms
X-ORIGINAL-URL:https://shangrilamotel.com
X-WR-CALDESC:Events for Ocean City MD Motels | Shangri-La Motel Rooms
BEGIN:VTIMEZONE
TZID:America/New_York
BEGIN:DAYLIGHT
TZOFFSETFROM:-0500
TZOFFSETTO:-0400
TZNAME:EDT
DTSTART:20180311T070000
END:DAYLIGHT
BEGIN:STANDARD
TZOFFSETFROM:-0400
TZOFFSETTO:-0500
TZNAME:EST
DTSTART:20181104T060000
END:STANDARD
END:VTIMEZONE
BEGIN:VEVENT
DTSTART;TZID=America/New_York:20180718T070000
DTEND;TZID=America/New_York:20180718T113000
DTSTAMP:20260422T050405
CREATED:20180719T023947Z
LAST-MODIFIED:20180719T023947Z
UID:17424-1531897200-1531913400@shangrilamotel.com
SUMMARY:Beach House Restaurant
DESCRIPTION:Come over through 7 AM to 11:30 AM for some delicious breakfast! \n
URL:https://shangrilamotel.com/event/beach-house-restaurant/
END:VEVENT
END:VCALENDAR