BEGIN:VCALENDAR
VERSION:2.0
PRODID:-//Ocean City MD Motels | Shangri-La Motel Rooms - ECPv4.9.14.1//NONSGML v1.0//EN
CALSCALE:GREGORIAN
METHOD:PUBLISH
X-WR-CALNAME:Ocean City MD Motels | Shangri-La Motel Rooms
X-ORIGINAL-URL:https://shangrilamotel.com
X-WR-CALDESC:Events for Ocean City MD Motels | Shangri-La Motel Rooms
BEGIN:VTIMEZONE
TZID:America/New_York
BEGIN:DAYLIGHT
TZOFFSETFROM:-0500
TZOFFSETTO:-0400
TZNAME:EDT
DTSTART:20180311T070000
END:DAYLIGHT
BEGIN:STANDARD
TZOFFSETFROM:-0400
TZOFFSETTO:-0500
TZNAME:EST
DTSTART:20181104T060000
END:STANDARD
END:VTIMEZONE
BEGIN:VEVENT
DTSTART;TZID=America/New_York:20180610T000000
DTEND;TZID=America/New_York:20180610T000000
DTSTAMP:20260422T075255
CREATED:20180611T024027Z
LAST-MODIFIED:20180611T024027Z
UID:13720-1528588800-1528588800@shangrilamotel.com
SUMMARY:Captain Schoepf Lifeguard Relay
DESCRIPTION:Beach relay honoring contributions of Capt. Schoepf and the sacrifices\nof all past and present Ocean City Beach Patrol.  For more information\,\nplease call 410-289 \n
URL:https://shangrilamotel.com/event/captain-schoepf-lifeguard-relay-2/
END:VEVENT
END:VCALENDAR