BEGIN:VCALENDAR
VERSION:2.0
PRODID:-//Ocean City MD Motels | Shangri-La Motel Rooms - ECPv4.9.14.1//NONSGML v1.0//EN
CALSCALE:GREGORIAN
METHOD:PUBLISH
X-WR-CALNAME:Ocean City MD Motels | Shangri-La Motel Rooms
X-ORIGINAL-URL:https://shangrilamotel.com
X-WR-CALDESC:Events for Ocean City MD Motels | Shangri-La Motel Rooms
BEGIN:VTIMEZONE
TZID:America/New_York
BEGIN:DAYLIGHT
TZOFFSETFROM:-0500
TZOFFSETTO:-0400
TZNAME:EDT
DTSTART:20170312T070000
END:DAYLIGHT
BEGIN:STANDARD
TZOFFSETFROM:-0400
TZOFFSETTO:-0500
TZNAME:EST
DTSTART:20171105T060000
END:STANDARD
END:VTIMEZONE
BEGIN:VEVENT
DTSTART;TZID=America/New_York:20171121T160000
DTEND;TZID=America/New_York:20171121T190000
DTSTAMP:20260419T230539
CREATED:20171120T143825Z
LAST-MODIFIED:20171120T143825Z
UID:7656-1511280000-1511290800@shangrilamotel.com
SUMMARY:Cooking Demo with Chef Joel Blice
DESCRIPTION:Come out to Lighthouse Sound the next 3 Tuesdays in our lounge for ladies night (Men are also invited!) and see our free cooking demo by our new executive Chef Joel Blice. Joel will be making a different appetizer each week that you will be available to order and have made in front of you! We will still offer our regular ladies night specials and Happy Hour from 4-7 pm. \n
URL:https://shangrilamotel.com/event/cooking-demo-with-chef-joel-blice-6/
END:VEVENT
END:VCALENDAR