BEGIN:VCALENDAR
VERSION:2.0
PRODID:-//Ocean City MD Motels | Shangri-La Motel Rooms - ECPv4.9.14.1//NONSGML v1.0//EN
CALSCALE:GREGORIAN
METHOD:PUBLISH
X-WR-CALNAME:Ocean City MD Motels | Shangri-La Motel Rooms
X-ORIGINAL-URL:https://shangrilamotel.com
X-WR-CALDESC:Events for Ocean City MD Motels | Shangri-La Motel Rooms
BEGIN:VTIMEZONE
TZID:America/New_York
BEGIN:DAYLIGHT
TZOFFSETFROM:-0500
TZOFFSETTO:-0400
TZNAME:EDT
DTSTART:20180311T070000
END:DAYLIGHT
BEGIN:STANDARD
TZOFFSETFROM:-0400
TZOFFSETTO:-0500
TZNAME:EST
DTSTART:20181104T060000
END:STANDARD
END:VTIMEZONE
BEGIN:VEVENT
DTSTART;TZID=America/New_York:20180613T000000
DTEND;TZID=America/New_York:20180613T000000
DTSTAMP:20260421T210140
CREATED:20180614T024240Z
LAST-MODIFIED:20180614T024240Z
UID:13726-1528848000-1528848000@shangrilamotel.com
SUMMARY:DJ Batman
DESCRIPTION:It’s a Ducks Social!  Rock the Dock with Ocean City Maryland’s own DJ Batman while you watch the beautiful sunset and sip on delicious cocktails! \n \n\n
URL:https://shangrilamotel.com/event/dj-batman-2/
END:VEVENT
END:VCALENDAR