BEGIN:VCALENDAR
VERSION:2.0
PRODID:-//Ocean City MD Motels | Shangri-La Motel Rooms - ECPv4.9.14.1//NONSGML v1.0//EN
CALSCALE:GREGORIAN
METHOD:PUBLISH
X-WR-CALNAME:Ocean City MD Motels | Shangri-La Motel Rooms
X-ORIGINAL-URL:https://shangrilamotel.com
X-WR-CALDESC:Events for Ocean City MD Motels | Shangri-La Motel Rooms
BEGIN:VTIMEZONE
TZID:America/New_York
BEGIN:DAYLIGHT
TZOFFSETFROM:-0500
TZOFFSETTO:-0400
TZNAME:EDT
DTSTART:20260308T070000
END:DAYLIGHT
BEGIN:STANDARD
TZOFFSETFROM:-0400
TZOFFSETTO:-0500
TZNAME:EST
DTSTART:20261101T060000
END:STANDARD
END:VTIMEZONE
BEGIN:VEVENT
DTSTART;TZID=America/New_York:20260502T210000
DTEND;TZID=America/New_York:20260502T210000
DTSTAMP:20260426T005653
CREATED:20260423T025307Z
LAST-MODIFIED:20260425T145148Z
UID:473063-1777755600-1777755600@shangrilamotel.com
SUMMARY:DJ Connair
DESCRIPTION:It’s time to get your groove on in Ocean City with DJ Connair and your friends at Seacrets in Ocean City\, Maryland.  Sip on a refreshing Seacrets cocktail and enjoy bay breezes while you dance and enjoy DJ Connair spinning your favorite dance hits. \n
URL:https://shangrilamotel.com/event/dj-connair-2/
LOCATION:Seacrets\, 49th Street On The Bay\, Ocean City\, MD\, 21842\, United States
ATTACH;FMTTYPE=image/jpeg:/app/uploads/2026/04/band_dj-hand-on-turntables-purple-pink-1.jpg
END:VEVENT
END:VCALENDAR