BEGIN:VCALENDAR
VERSION:2.0
PRODID:-//Ocean City MD Motels | Shangri-La Motel Rooms - ECPv4.9.14.1//NONSGML v1.0//EN
CALSCALE:GREGORIAN
METHOD:PUBLISH
X-WR-CALNAME:Ocean City MD Motels | Shangri-La Motel Rooms
X-ORIGINAL-URL:https://shangrilamotel.com
X-WR-CALDESC:Events for Ocean City MD Motels | Shangri-La Motel Rooms
BEGIN:VTIMEZONE
TZID:America/New_York
BEGIN:DAYLIGHT
TZOFFSETFROM:-0500
TZOFFSETTO:-0400
TZNAME:EDT
DTSTART:20260308T070000
END:DAYLIGHT
BEGIN:STANDARD
TZOFFSETFROM:-0400
TZOFFSETTO:-0500
TZNAME:EST
DTSTART:20261101T060000
END:STANDARD
END:VTIMEZONE
BEGIN:VEVENT
DTSTART;TZID=America/New_York:20260430T210000
DTEND;TZID=America/New_York:20260430T210000
DTSTAMP:20260425T152631
CREATED:20260423T025250Z
LAST-MODIFIED:20260425T145132Z
UID:473057-1777582800-1777582800@shangrilamotel.com
SUMMARY:DJ J Spinz at Seacrets
DESCRIPTION:DJ J Spinz is a dynamic and versatile DJ based on the Eastern Shore\, known for his ability to energize any event with his mixes and engaging presence. With a passion for music that spans genres\, DJ J Spinz has become a sought-after for events. DJ J-Spinz is live at Seacrets tonight. \n
URL:https://shangrilamotel.com/event/dj-j-spinz-at-seacrets-2/
LOCATION:Seacrets\, 49th Street On The Bay\, Ocean City\, MD\, 21842\, United States
ATTACH;FMTTYPE=image/png:/app/uploads/2026/04/dj-turn-table-10.png
END:VEVENT
END:VCALENDAR