BEGIN:VCALENDAR
VERSION:2.0
PRODID:-//Ocean City MD Motels | Shangri-La Motel Rooms - ECPv4.9.14.1//NONSGML v1.0//EN
CALSCALE:GREGORIAN
METHOD:PUBLISH
X-WR-CALNAME:Ocean City MD Motels | Shangri-La Motel Rooms
X-ORIGINAL-URL:https://shangrilamotel.com
X-WR-CALDESC:Events for Ocean City MD Motels | Shangri-La Motel Rooms
BEGIN:VTIMEZONE
TZID:America/New_York
BEGIN:DAYLIGHT
TZOFFSETFROM:-0500
TZOFFSETTO:-0400
TZNAME:EDT
DTSTART:20180311T070000
END:DAYLIGHT
BEGIN:STANDARD
TZOFFSETFROM:-0400
TZOFFSETTO:-0500
TZNAME:EST
DTSTART:20181104T060000
END:STANDARD
END:VTIMEZONE
BEGIN:VEVENT
DTSTART;TZID=America/New_York:20181227T133000
DTEND;TZID=America/New_York:20181227T143000
DTSTAMP:20260421T163946
CREATED:20181228T023940Z
LAST-MODIFIED:20181228T023940Z
UID:17829-1545917400-1545921000@shangrilamotel.com
SUMMARY:Family Movie Time at the Worcester County Library in Ocean City
DESCRIPTION:Come to the Worcester County Library – Ocean City Branch to see a viewing of Mary Poppins. This Disney classic is a can’t miss\, just in time to see before the new “Mary Poppins Returns.” \n
URL:https://shangrilamotel.com/event/family-movie-time-at-the-worcester-county-library-in-ocean-city-2/
END:VEVENT
END:VCALENDAR