BEGIN:VCALENDAR
VERSION:2.0
PRODID:-//Ocean City MD Motels | Shangri-La Motel Rooms - ECPv4.9.14.1//NONSGML v1.0//EN
CALSCALE:GREGORIAN
METHOD:PUBLISH
X-WR-CALNAME:Ocean City MD Motels | Shangri-La Motel Rooms
X-ORIGINAL-URL:https://shangrilamotel.com
X-WR-CALDESC:Events for Ocean City MD Motels | Shangri-La Motel Rooms
BEGIN:VTIMEZONE
TZID:America/New_York
BEGIN:DAYLIGHT
TZOFFSETFROM:-0500
TZOFFSETTO:-0400
TZNAME:EDT
DTSTART:20170312T070000
END:DAYLIGHT
BEGIN:STANDARD
TZOFFSETFROM:-0400
TZOFFSETTO:-0500
TZNAME:EST
DTSTART:20171105T060000
END:STANDARD
END:VTIMEZONE
BEGIN:VEVENT
DTSTART;TZID=America/New_York:20171115T170000
DTEND;TZID=America/New_York:20171115T210000
DTSTAMP:20260420T165623
CREATED:20171116T023834Z
LAST-MODIFIED:20171116T023834Z
UID:7647-1510765200-1510779600@shangrilamotel.com
SUMMARY:Girls Night Out on 35th Street  - Eat\, Drink & Shop The Night Away
DESCRIPTION:Grab your friends and hit the block for one of your favorite nights on 35th Street! It’s that time again when Ish Boutique and K-Coast Surf Shop team up together and offer a fun night of amazing discounts and giveaways plus sweets and treats.  \nThis year\, be sure to swing into Shotti’s Point Ocean City when you’re out and about for some awesome food and drink specials. Lets kick off the season together and support local!  Please see specials listed below for each location. ish Boutique:20% off your entire purchase *excludes S’wellK-Coast25% off entire check excludes Surfboards and SUP’s\nShottis:\n$5 Sangria & House wine\n$5 Champagne Crushes\n$10 Margherita Pizza\n$10 Brie & Fruit\n$10 Cherry Tomatoe Ricotta Dip\n
URL:https://shangrilamotel.com/event/girls-night-out-on-35th-street-eat-drink-shop-the-night-away-2/
END:VEVENT
END:VCALENDAR