BEGIN:VCALENDAR
VERSION:2.0
PRODID:-//Ocean City MD Motels | Shangri-La Motel Rooms - ECPv4.9.14.1//NONSGML v1.0//EN
CALSCALE:GREGORIAN
METHOD:PUBLISH
X-WR-CALNAME:Ocean City MD Motels | Shangri-La Motel Rooms
X-ORIGINAL-URL:https://shangrilamotel.com
X-WR-CALDESC:Events for Ocean City MD Motels | Shangri-La Motel Rooms
BEGIN:VTIMEZONE
TZID:America/New_York
BEGIN:DAYLIGHT
TZOFFSETFROM:-0500
TZOFFSETTO:-0400
TZNAME:EDT
DTSTART:20180311T070000
END:DAYLIGHT
BEGIN:STANDARD
TZOFFSETFROM:-0400
TZOFFSETTO:-0500
TZNAME:EST
DTSTART:20181104T060000
END:STANDARD
END:VTIMEZONE
BEGIN:VEVENT
DTSTART;TZID=America/New_York:20180612T093000
DTEND;TZID=America/New_York:20180612T120000
DTSTAMP:20260422T012450
CREATED:20180613T024011Z
LAST-MODIFIED:20180613T024011Z
UID:13724-1528795800-1528804800@shangrilamotel.com
SUMMARY:Gouache Painting with Joanne K. Guilfoil - Hawaii Flowers
DESCRIPTION:Gouache – sometimes referred to as opaque watercolor\, starts out similarly to watercolor. The pigment ratio in gouache is usually much greater than in watercolor and solid white pigment are incorporated. These factors give gouache a much heavier texture and higher opacity than watercolor alone. You will learn different techniques for Gouache and how to work the material to get the wanted effects.\nBring what supplies you have\, or rent a kit for just $10. All levels are welcome. Each day will be a different theme.\n \nToday\, we will paint Hawaii Flowers\nCost: $25 Members\, $30 Non-Members\n
URL:https://shangrilamotel.com/event/gouache-painting-with-joanne-k-guilfoil-hawaii-flowers-2/
END:VEVENT
END:VCALENDAR