BEGIN:VCALENDAR
VERSION:2.0
PRODID:-//Ocean City MD Motels | Shangri-La Motel Rooms - ECPv4.9.14.1//NONSGML v1.0//EN
CALSCALE:GREGORIAN
METHOD:PUBLISH
X-WR-CALNAME:Ocean City MD Motels | Shangri-La Motel Rooms
X-ORIGINAL-URL:https://shangrilamotel.com
X-WR-CALDESC:Events for Ocean City MD Motels | Shangri-La Motel Rooms
BEGIN:VTIMEZONE
TZID:America/New_York
BEGIN:DAYLIGHT
TZOFFSETFROM:-0500
TZOFFSETTO:-0400
TZNAME:EDT
DTSTART:20170312T070000
END:DAYLIGHT
BEGIN:STANDARD
TZOFFSETFROM:-0400
TZOFFSETTO:-0500
TZNAME:EST
DTSTART:20171105T060000
END:STANDARD
END:VTIMEZONE
BEGIN:VEVENT
DTSTART;TZID=America/New_York:20170815T220000
DTEND;TZID=America/New_York:20170815T220000
DTSTAMP:20260421T221932
CREATED:20170814T204007Z
LAST-MODIFIED:20170814T204007Z
UID:5134-1502834400-1502834400@shangrilamotel.com
SUMMARY:Karaoke
DESCRIPTION:Belt out your favorite tunes at Harpoon Hanna’s in Fenwick Island\, DE right outside of Ocean City\, MD. Enjoy your favorite cocktails and food while joining in on the fun of Karaoke!\n \n
URL:https://shangrilamotel.com/event/karaoke/
END:VEVENT
END:VCALENDAR