BEGIN:VCALENDAR
VERSION:2.0
PRODID:-//Ocean City MD Motels | Shangri-La Motel Rooms - ECPv4.9.14.1//NONSGML v1.0//EN
CALSCALE:GREGORIAN
METHOD:PUBLISH
X-WR-CALNAME:Ocean City MD Motels | Shangri-La Motel Rooms
X-ORIGINAL-URL:https://shangrilamotel.com
X-WR-CALDESC:Events for Ocean City MD Motels | Shangri-La Motel Rooms
BEGIN:VTIMEZONE
TZID:America/New_York
BEGIN:DAYLIGHT
TZOFFSETFROM:-0500
TZOFFSETTO:-0400
TZNAME:EDT
DTSTART:20180311T070000
END:DAYLIGHT
BEGIN:STANDARD
TZOFFSETFROM:-0400
TZOFFSETTO:-0500
TZNAME:EST
DTSTART:20181104T060000
END:STANDARD
END:VTIMEZONE
BEGIN:VEVENT
DTSTART;TZID=America/New_York:20181206T160000
DTEND;TZID=America/New_York:20181206T173000
DTSTAMP:20260425T234626
CREATED:20181207T023821Z
LAST-MODIFIED:20181207T023821Z
UID:17787-1544112000-1544117400@shangrilamotel.com
SUMMARY:Kids Afternoon Pottery
DESCRIPTION:Let your little ones play with clay. Students will express themselves with a variety of projects as they build hand-eye coordination.  \n
URL:https://shangrilamotel.com/event/kids-afternoon-pottery-2/
END:VEVENT
END:VCALENDAR