BEGIN:VCALENDAR
VERSION:2.0
PRODID:-//Ocean City MD Motels | Shangri-La Motel Rooms - ECPv4.9.14.1//NONSGML v1.0//EN
CALSCALE:GREGORIAN
METHOD:PUBLISH
X-WR-CALNAME:Ocean City MD Motels | Shangri-La Motel Rooms
X-ORIGINAL-URL:https://shangrilamotel.com
X-WR-CALDESC:Events for Ocean City MD Motels | Shangri-La Motel Rooms
BEGIN:VTIMEZONE
TZID:America/New_York
BEGIN:DAYLIGHT
TZOFFSETFROM:-0500
TZOFFSETTO:-0400
TZNAME:EDT
DTSTART:20260308T070000
END:DAYLIGHT
BEGIN:STANDARD
TZOFFSETFROM:-0400
TZOFFSETTO:-0500
TZNAME:EST
DTSTART:20261101T060000
END:STANDARD
END:VTIMEZONE
BEGIN:VEVENT
DTSTART;TZID=America/New_York:20260907T163000
DTEND;TZID=America/New_York:20260907T163000
DTSTAMP:20260425T132108
CREATED:20260425T030131Z
LAST-MODIFIED:20260425T030131Z
UID:473346-1788798600-1788798600@shangrilamotel.com
SUMMARY:Monday Deck Party at Fager's Island
DESCRIPTION:Fager’s Island is place to be every Monday during the summer in Ocean City. There will be fun\, food\, drinks\, and live entertainment by the best artists in town! Be sure to clear your evening plans because this is one party you won’t want to miss! \n
URL:https://shangrilamotel.com/event/monday-deck-party-at-fagers-island-20/
LOCATION:Fager’s Island\, 201 60th St\, Ocean City\, MD\, 21842\, United States
ATTACH;FMTTYPE=image/png:/app/uploads/2026/04/dj-turn-table-31.png
END:VEVENT
END:VCALENDAR