BEGIN:VCALENDAR
VERSION:2.0
PRODID:-//Ocean City MD Motels | Shangri-La Motel Rooms - ECPv4.9.14.1//NONSGML v1.0//EN
CALSCALE:GREGORIAN
METHOD:PUBLISH
X-WR-CALNAME:Ocean City MD Motels | Shangri-La Motel Rooms
X-ORIGINAL-URL:https://shangrilamotel.com
X-WR-CALDESC:Events for Ocean City MD Motels | Shangri-La Motel Rooms
BEGIN:VTIMEZONE
TZID:America/New_York
BEGIN:DAYLIGHT
TZOFFSETFROM:-0500
TZOFFSETTO:-0400
TZNAME:EDT
DTSTART:20180311T070000
END:DAYLIGHT
BEGIN:STANDARD
TZOFFSETFROM:-0400
TZOFFSETTO:-0500
TZNAME:EST
DTSTART:20181104T060000
END:STANDARD
END:VTIMEZONE
BEGIN:VEVENT
DTSTART;VALUE=DATE:20180623
DTEND;VALUE=DATE:20180624
DTSTAMP:20260420T191054
CREATED:20180623T143802Z
LAST-MODIFIED:20180623T143802Z
UID:13745-1529712000-1529798399@shangrilamotel.com
SUMMARY:OC Car & Truck Show
DESCRIPTION:The hottest vehicles in the NATION on display plus Top Celeb appearances TBA about 1 month out – The OC Car Show in June is the biggest and best event in Ocean City\, Maryland.\n  \nOne of the East Coast’s largest automotive and culture events comes to Ocean City with the most amazing vehicles that grace the pages of your favorite automotive magazines. From tuners to exotics\, from trick trucks to slammed SUV’s\, from crazy classics to super bikes\, the OC Car Show has something for everyone. Combine that with top name companies with interactive displays\, vendors with everything for your ride and Ocean City’s biggest name performances live on the OC Car Show Stage\, the event is great entertainment. For updates on artists and special guest appearances\, visit www.occarshow.com. \n \nTickets sold at the door.\n$20 Inside and Out \nUnder 12 and Over 65 $10\nUnder 7 Free\nAll Weekend Value Pass $30\n
URL:https://shangrilamotel.com/event/oc-car-truck-show/
END:VEVENT
END:VCALENDAR