BEGIN:VCALENDAR
VERSION:2.0
PRODID:-//Ocean City MD Motels | Shangri-La Motel Rooms - ECPv4.9.14.1//NONSGML v1.0//EN
CALSCALE:GREGORIAN
METHOD:PUBLISH
X-WR-CALNAME:Ocean City MD Motels | Shangri-La Motel Rooms
X-ORIGINAL-URL:https://shangrilamotel.com
X-WR-CALDESC:Events for Ocean City MD Motels | Shangri-La Motel Rooms
BEGIN:VTIMEZONE
TZID:America/New_York
BEGIN:DAYLIGHT
TZOFFSETFROM:-0500
TZOFFSETTO:-0400
TZNAME:EDT
DTSTART:20180311T070000
END:DAYLIGHT
BEGIN:STANDARD
TZOFFSETFROM:-0400
TZOFFSETTO:-0500
TZNAME:EST
DTSTART:20181104T060000
END:STANDARD
END:VTIMEZONE
BEGIN:VEVENT
DTSTART;TZID=America/New_York:20180609T080000
DTEND;TZID=America/New_York:20180609T190000
DTSTAMP:20260424T094755
CREATED:20180609T143822Z
LAST-MODIFIED:20180609T143822Z
UID:13717-1528531200-1528570800@shangrilamotel.com
SUMMARY:Sand Duel Beach Soccer Challenge
DESCRIPTION:The Sand Duels Beach Soccer Tournament is the largest sand soccer event in Ocean City.  This event is open to all traditional and non – traditional soccer teams – featuring Recreational and Competitive brackets.  \n \nSaturday and Sunday\, 8am to 7pm. \n \nFor more information\, email westcoat@mac.com or call 443-204-3785\n
URL:https://shangrilamotel.com/event/sand-duel-beach-soccer-challenge/
END:VEVENT
END:VCALENDAR