BEGIN:VCALENDAR
VERSION:2.0
PRODID:-//Ocean City MD Motels | Shangri-La Motel Rooms - ECPv4.9.14.1//NONSGML v1.0//EN
CALSCALE:GREGORIAN
METHOD:PUBLISH
X-WR-CALNAME:Ocean City MD Motels | Shangri-La Motel Rooms
X-ORIGINAL-URL:https://shangrilamotel.com
X-WR-CALDESC:Events for Ocean City MD Motels | Shangri-La Motel Rooms
BEGIN:VTIMEZONE
TZID:America/New_York
BEGIN:DAYLIGHT
TZOFFSETFROM:-0500
TZOFFSETTO:-0400
TZNAME:EDT
DTSTART:20170312T070000
END:DAYLIGHT
BEGIN:STANDARD
TZOFFSETFROM:-0400
TZOFFSETTO:-0500
TZNAME:EST
DTSTART:20171105T060000
END:STANDARD
END:VTIMEZONE
BEGIN:VEVENT
DTSTART;TZID=America/New_York:20170830T190000
DTEND;TZID=America/New_York:20170830T210000
DTSTAMP:20260421T205143
CREATED:20170830T205130Z
LAST-MODIFIED:20170830T205130Z
UID:5240-1504119600-1504126800@shangrilamotel.com
SUMMARY:Sip & Paint Experience
DESCRIPTION:Enjoy fabulous food and drinks at the Greenhouse Cafe during our Sip & Paint experience with T.C. Studios.  No painting skill required! $36.00 per person. \n \nSpace is limited\, please register in advance. \n
URL:https://shangrilamotel.com/event/sip-paint-experience/
END:VEVENT
END:VCALENDAR