BEGIN:VCALENDAR
VERSION:2.0
PRODID:-//Ocean City MD Motels | Shangri-La Motel Rooms - ECPv4.9.14.1//NONSGML v1.0//EN
CALSCALE:GREGORIAN
METHOD:PUBLISH
X-WR-CALNAME:Ocean City MD Motels | Shangri-La Motel Rooms
X-ORIGINAL-URL:https://shangrilamotel.com
X-WR-CALDESC:Events for Ocean City MD Motels | Shangri-La Motel Rooms
BEGIN:VTIMEZONE
TZID:America/New_York
BEGIN:DAYLIGHT
TZOFFSETFROM:-0500
TZOFFSETTO:-0400
TZNAME:EDT
DTSTART:20260308T070000
END:DAYLIGHT
BEGIN:STANDARD
TZOFFSETFROM:-0400
TZOFFSETTO:-0500
TZNAME:EST
DTSTART:20261101T060000
END:STANDARD
END:VTIMEZONE
BEGIN:VEVENT
DTSTART;TZID=America/New_York:20260501T220000
DTEND;TZID=America/New_York:20260501T220000
DTSTAMP:20260425T234915
CREATED:20260423T025304Z
LAST-MODIFIED:20260425T145142Z
UID:473061-1777672800-1777672800@shangrilamotel.com
SUMMARY:Steal The Sky
DESCRIPTION:Don’t miss rock/pop/dance band Steal The Sky live at Seacrets! This four-piece band plays everything from Rihanna to Zeppelin\, so there’s something for everyone. You’ll have a blast dancing to their music at the Nite Club all night long. \n
URL:https://shangrilamotel.com/event/steal-the-sky/
LOCATION:Seacrets\, 49th Street On The Bay\, Ocean City\, MD\, 21842\, United States
ATTACH;FMTTYPE=image/jpeg:/app/uploads/2026/04/band_person_silhouette_guitar_background_purples_and_yellows_with_swirls_and_music_notes.jpg
END:VEVENT
END:VCALENDAR