BEGIN:VCALENDAR
VERSION:2.0
PRODID:-//Ocean City MD Motels | Shangri-La Motel Rooms - ECPv4.9.14.1//NONSGML v1.0//EN
CALSCALE:GREGORIAN
METHOD:PUBLISH
X-WR-CALNAME:Ocean City MD Motels | Shangri-La Motel Rooms
X-ORIGINAL-URL:https://shangrilamotel.com
X-WR-CALDESC:Events for Ocean City MD Motels | Shangri-La Motel Rooms
BEGIN:VTIMEZONE
TZID:America/New_York
BEGIN:DAYLIGHT
TZOFFSETFROM:-0500
TZOFFSETTO:-0400
TZNAME:EDT
DTSTART:20260308T070000
END:DAYLIGHT
BEGIN:STANDARD
TZOFFSETFROM:-0400
TZOFFSETTO:-0500
TZNAME:EST
DTSTART:20261101T060000
END:STANDARD
END:VTIMEZONE
BEGIN:VEVENT
DTSTART;TZID=America/New_York:20260424T220000
DTEND;TZID=America/New_York:20260424T220000
DTSTAMP:20260424T132219
CREATED:20260423T025048Z
LAST-MODIFIED:20260424T025053Z
UID:473050-1777068000-1777068000@shangrilamotel.com
SUMMARY:The Event Horizon
DESCRIPTION:The Event Horizon is one of New Jersey’s top club bands\, and you won’t want to miss them when they perform at Seacrets! This band thrives on the diversity of music tastes in today’s individuals\, and play a variety of club hits from rock to pop to country to dance to hip hop\, and everything in between. A night with The Event Horizon clearly has it all. Rock out with The Event Horizon with an Island Favorites Seacrets drink – maybe a Strawberry Lemonade or a Jamaican Iced Tea. \n
URL:https://shangrilamotel.com/event/the-event-horizon/
LOCATION:Seacrets\, 49th Street On The Bay\, Ocean City\, MD\, 21842\, United States
ATTACH;FMTTYPE=image/png:/app/uploads/2026/04/music-people-in-crowd-at-concert.png
END:VEVENT
END:VCALENDAR