BEGIN:VCALENDAR
VERSION:2.0
PRODID:-//Ocean City MD Motels | Shangri-La Motel Rooms - ECPv4.9.14.1//NONSGML v1.0//EN
CALSCALE:GREGORIAN
METHOD:PUBLISH
X-WR-CALNAME:Ocean City MD Motels | Shangri-La Motel Rooms
X-ORIGINAL-URL:https://shangrilamotel.com
X-WR-CALDESC:Events for Ocean City MD Motels | Shangri-La Motel Rooms
BEGIN:VTIMEZONE
TZID:America/New_York
BEGIN:DAYLIGHT
TZOFFSETFROM:-0500
TZOFFSETTO:-0400
TZNAME:EDT
DTSTART:20180311T070000
END:DAYLIGHT
BEGIN:STANDARD
TZOFFSETFROM:-0400
TZOFFSETTO:-0500
TZNAME:EST
DTSTART:20181104T060000
END:STANDARD
END:VTIMEZONE
BEGIN:VEVENT
DTSTART;TZID=America/New_York:20180516T140000
DTEND;TZID=America/New_York:20180516T170000
DTSTAMP:20260425T235032
CREATED:20180516T143752Z
LAST-MODIFIED:20180516T143752Z
UID:13669-1526479200-1526490000@shangrilamotel.com
SUMMARY:Senior Deck Party With Bobby Burns
DESCRIPTION:Join us every week for our Senior Deck Party with live music featuring Bobby Burns!\n \nComplimentary roast beef sandwiches\, while they last!\n
URL:https://shangrilamotel.com/event/senior-deck-party-with-bobby-burns-18/
END:VEVENT
BEGIN:VEVENT
DTSTART;TZID=America/New_York:20180516T140000
DTEND;TZID=America/New_York:20180516T170000
DTSTAMP:20260425T235032
CREATED:20180517T023756Z
LAST-MODIFIED:20180517T023756Z
UID:13670-1526479200-1526490000@shangrilamotel.com
SUMMARY:Senior Deck Party With Bobby Burns
DESCRIPTION:Join us every week for our Senior Deck Party with live music featuring Bobby Burns!\n \nComplimentary roast beef sandwiches\, while they last!\n
URL:https://shangrilamotel.com/event/senior-deck-party-with-bobby-burns-19/
END:VEVENT
END:VCALENDAR