BEGIN:VCALENDAR
VERSION:2.0
PRODID:-//Ocean City MD Motels | Shangri-La Motel Rooms - ECPv4.9.14.1//NONSGML v1.0//EN
CALSCALE:GREGORIAN
METHOD:PUBLISH
X-WR-CALNAME:Ocean City MD Motels | Shangri-La Motel Rooms
X-ORIGINAL-URL:https://shangrilamotel.com
X-WR-CALDESC:Events for Ocean City MD Motels | Shangri-La Motel Rooms
BEGIN:VTIMEZONE
TZID:America/New_York
BEGIN:DAYLIGHT
TZOFFSETFROM:-0500
TZOFFSETTO:-0400
TZNAME:EDT
DTSTART:20180311T070000
END:DAYLIGHT
BEGIN:STANDARD
TZOFFSETFROM:-0400
TZOFFSETTO:-0500
TZNAME:EST
DTSTART:20181104T060000
END:STANDARD
END:VTIMEZONE
BEGIN:VEVENT
DTSTART;TZID=America/New_York:20180520T090000
DTEND;TZID=America/New_York:20180520T150000
DTSTAMP:20260425T185544
CREATED:20180520T145333Z
LAST-MODIFIED:20180520T145333Z
UID:13677-1526806800-1526828400@shangrilamotel.com
SUMMARY:Cruisin' Ocean City
DESCRIPTION:This popular car show features over 3\,400 hot rods\, customs\, classics\, street machines\, muscle cars and more. Live entertainment\, celebrity guests\, special attractions\, boardwalk parades\, manufacturers vendor midway and more.  Boardwalk Parades.  So many things to see and do\, so make sure you cruise on down to Ocean City\, MD! \n \nAdmission $10/day Thursday and Sunday\, $15/day Friday and Saturday.  Children under 14 are free with an adult. \n \nFor additional information\, visit www.cruisinoceancity.com.\n\n\n
URL:https://shangrilamotel.com/event/cruisin-ocean-city/
END:VEVENT
BEGIN:VEVENT
DTSTART;TZID=America/New_York:20180520T090000
DTEND;TZID=America/New_York:20180520T150000
DTSTAMP:20260425T185544
CREATED:20180521T024124Z
LAST-MODIFIED:20180521T024124Z
UID:13678-1526806800-1526828400@shangrilamotel.com
SUMMARY:Cruisin' Ocean City
DESCRIPTION:This popular car show features over 3\,400 hot rods\, customs\, classics\, street machines\, muscle cars and more. Live entertainment\, celebrity guests\, special attractions\, boardwalk parades\, manufacturers vendor midway and more.  Boardwalk Parades.  So many things to see and do\, so make sure you cruise on down to Ocean City\, MD! \n \nAdmission $10/day Thursday and Sunday\, $15/day Friday and Saturday.  Children under 14 are free with an adult. \n \nFor additional information\, visit www.cruisinoceancity.com.\n\n\n
URL:https://shangrilamotel.com/event/cruisin-ocean-city-2/
END:VEVENT
END:VCALENDAR