BEGIN:VCALENDAR
VERSION:2.0
PRODID:-//Ocean City MD Motels | Shangri-La Motel Rooms - ECPv4.9.14.1//NONSGML v1.0//EN
CALSCALE:GREGORIAN
METHOD:PUBLISH
X-WR-CALNAME:Ocean City MD Motels | Shangri-La Motel Rooms
X-ORIGINAL-URL:https://shangrilamotel.com
X-WR-CALDESC:Events for Ocean City MD Motels | Shangri-La Motel Rooms
BEGIN:VTIMEZONE
TZID:America/New_York
BEGIN:DAYLIGHT
TZOFFSETFROM:-0500
TZOFFSETTO:-0400
TZNAME:EDT
DTSTART:20180311T070000
END:DAYLIGHT
BEGIN:STANDARD
TZOFFSETFROM:-0400
TZOFFSETTO:-0500
TZNAME:EST
DTSTART:20181104T060000
END:STANDARD
END:VTIMEZONE
BEGIN:VEVENT
DTSTART;VALUE=DATE:20180523
DTEND;VALUE=DATE:20180524
DTSTAMP:20260425T151920
CREATED:20180523T143909Z
LAST-MODIFIED:20180523T143909Z
UID:13683-1527033600-1527119999@shangrilamotel.com
SUMMARY:Funk Night With DJ Wiz
DESCRIPTION:Funk night with DJ Wiz \n \n$3 Fireballs at 10pm\n
URL:https://shangrilamotel.com/event/funk-night-with-dj-wiz/
END:VEVENT
BEGIN:VEVENT
DTSTART;VALUE=DATE:20180523
DTEND;VALUE=DATE:20180524
DTSTAMP:20260425T151920
CREATED:20180524T023742Z
LAST-MODIFIED:20180524T023742Z
UID:13684-1527033600-1527119999@shangrilamotel.com
SUMMARY:Funk Night With DJ Wiz
DESCRIPTION:Funk night with DJ Wiz \n \n$3 Fireballs at 10pm\n
URL:https://shangrilamotel.com/event/funk-night-with-dj-wiz-2/
END:VEVENT
END:VCALENDAR