BEGIN:VCALENDAR
VERSION:2.0
PRODID:-//Ocean City MD Motels | Shangri-La Motel Rooms - ECPv4.9.14.1//NONSGML v1.0//EN
CALSCALE:GREGORIAN
METHOD:PUBLISH
X-WR-CALNAME:Ocean City MD Motels | Shangri-La Motel Rooms
X-ORIGINAL-URL:https://shangrilamotel.com
X-WR-CALDESC:Events for Ocean City MD Motels | Shangri-La Motel Rooms
BEGIN:VTIMEZONE
TZID:America/New_York
BEGIN:DAYLIGHT
TZOFFSETFROM:-0500
TZOFFSETTO:-0400
TZNAME:EDT
DTSTART:20180311T070000
END:DAYLIGHT
BEGIN:STANDARD
TZOFFSETFROM:-0400
TZOFFSETTO:-0500
TZNAME:EST
DTSTART:20181104T060000
END:STANDARD
END:VTIMEZONE
BEGIN:VEVENT
DTSTART;TZID=America/New_York:20180524T080000
DTEND;TZID=America/New_York:20180524T090000
DTSTAMP:20260425T135927
CREATED:20180524T144024Z
LAST-MODIFIED:20180524T144024Z
UID:13685-1527148800-1527152400@shangrilamotel.com
SUMMARY:Morning Yoga on the Beach
DESCRIPTION:Enjoy Ocean City’s Beautiful Beaches while practicing guided Yoga and Meditation on the beach just North of the Carousel Hotel.  \n\nThings to Bring:\n– Water Bottle\n– Beach Towel or Yoga Mat\n\nIn case of inclement weather\, the class will be moved indoors. Call or text 410-603-9803 or send an email to OCBeachYoga@gmail.com  for more information. \n\n
URL:https://shangrilamotel.com/event/morning-yoga-on-the-beach/
END:VEVENT
BEGIN:VEVENT
DTSTART;TZID=America/New_York:20180524T080000
DTEND;TZID=America/New_York:20180524T090000
DTSTAMP:20260425T135927
CREATED:20180525T023810Z
LAST-MODIFIED:20180525T023810Z
UID:13686-1527148800-1527152400@shangrilamotel.com
SUMMARY:Morning Yoga on the Beach
DESCRIPTION:Enjoy Ocean City’s Beautiful Beaches while practicing guided Yoga and Meditation on the beach just North of the Carousel Hotel.  \n\nThings to Bring:\n– Water Bottle\n– Beach Towel or Yoga Mat\n\nIn case of inclement weather\, the class will be moved indoors. Call or text 410-603-9803 or send an email to OCBeachYoga@gmail.com  for more information. \n\n
URL:https://shangrilamotel.com/event/morning-yoga-on-the-beach-2/
END:VEVENT
END:VCALENDAR